BEGIN:VCALENDAR
VERSION:2.0
PRODID:-//Inde Motorsports Ranch - ECPv6.15.3//NONSGML v1.0//EN
CALSCALE:GREGORIAN
METHOD:PUBLISH
X-ORIGINAL-URL:https://indemotorsports.com
X-WR-CALDESC:Events for Inde Motorsports Ranch
REFRESH-INTERVAL;VALUE=DURATION:PT1H
X-Robots-Tag:noindex
X-PUBLISHED-TTL:PT1H
BEGIN:VTIMEZONE
TZID:America/Phoenix
BEGIN:STANDARD
TZOFFSETFROM:-0700
TZOFFSETTO:-0700
TZNAME:MST
DTSTART:20240101T000000
END:STANDARD
END:VTIMEZONE
BEGIN:VEVENT
DTSTART;VALUE=DATE:20240831
DTEND;VALUE=DATE:20240902
DTSTAMP:20260424T014832
CREATED:20240713T161001Z
LAST-MODIFIED:20240713T161001Z
UID:10000224-1725062400-1725235199@indemotorsports.com
SUMMARY:Pro Auto Sports
DESCRIPTION:Pro
URL:https://indemotorsports.com/event/pro-auto-sports-2/
END:VEVENT
BEGIN:VEVENT
DTSTART;VALUE=DATE:20240902
DTEND;VALUE=DATE:20240903
DTSTAMP:20260424T014832
CREATED:20240713T161036Z
LAST-MODIFIED:20240713T161036Z
UID:10000225-1725235200-1725321599@indemotorsports.com
SUMMARY:Labor Day- Track & Facility closed
DESCRIPTION:
URL:https://indemotorsports.com/event/labor-day-track-facility-closed/
END:VEVENT
BEGIN:VEVENT
DTSTART;VALUE=DATE:20240907
DTEND;VALUE=DATE:20240909
DTSTAMP:20260424T014832
CREATED:20240713T161122Z
LAST-MODIFIED:20240713T161122Z
UID:10000226-1725667200-1725839999@indemotorsports.com
SUMMARY:IMR Rider's Club
DESCRIPTION:
URL:https://indemotorsports.com/event/imr-riders-club-21/
END:VEVENT
BEGIN:VEVENT
DTSTART;VALUE=DATE:20240921
DTEND;VALUE=DATE:20240923
DTSTAMP:20260424T014832
CREATED:20240713T161325Z
LAST-MODIFIED:20240713T161325Z
UID:10000228-1726876800-1727049599@indemotorsports.com
SUMMARY:PCA
DESCRIPTION:
URL:https://indemotorsports.com/event/pca-4/
END:VEVENT
BEGIN:VEVENT
DTSTART;TZID=America/Phoenix:20240928T080000
DTEND;TZID=America/Phoenix:20240928T170000
DTSTAMP:20260424T014832
CREATED:20240511T213434Z
LAST-MODIFIED:20240511T213434Z
UID:10000216-1727510400-1727542800@indemotorsports.com
SUMMARY:Pantera Club Track day
DESCRIPTION:
URL:https://indemotorsports.com/event/pantera-club-track-day-2/
ORGANIZER;CN="Inde Motorsports Ranch":MAILTO:admin@indemotorsports.com
END:VEVENT
BEGIN:VEVENT
DTSTART;TZID=America/Phoenix:20240929T080000
DTEND;TZID=America/Phoenix:20240929T170000
DTSTAMP:20260424T014832
CREATED:20240814T173809Z
LAST-MODIFIED:20240814T173809Z
UID:10000237-1727596800-1727629200@indemotorsports.com
SUMMARY:Desert Street Cars
DESCRIPTION:
URL:https://indemotorsports.com/event/desert-street-cars/
END:VEVENT
END:VCALENDAR