BEGIN:VCALENDAR
VERSION:2.0
PRODID:-//Inde Motorsports Ranch - ECPv6.15.3//NONSGML v1.0//EN
CALSCALE:GREGORIAN
METHOD:PUBLISH
X-ORIGINAL-URL:https://indemotorsports.com
X-WR-CALDESC:Events for Inde Motorsports Ranch
REFRESH-INTERVAL;VALUE=DURATION:PT1H
X-Robots-Tag:noindex
X-PUBLISHED-TTL:PT1H
BEGIN:VTIMEZONE
TZID:America/Phoenix
BEGIN:STANDARD
TZOFFSETFROM:-0700
TZOFFSETTO:-0700
TZNAME:MST
DTSTART:20230101T000000
END:STANDARD
END:VTIMEZONE
BEGIN:VEVENT
DTSTART;VALUE=DATE:20231104
DTEND;VALUE=DATE:20231106
DTSTAMP:20260424T023047
CREATED:20230913T233134Z
LAST-MODIFIED:20230913T233134Z
UID:10000006-1699056000-1699228799@indemotorsports.com
SUMMARY:PCA
DESCRIPTION:
URL:https://indemotorsports.com/event/pca/
END:VEVENT
BEGIN:VEVENT
DTSTART;VALUE=DATE:20231111
DTEND;VALUE=DATE:20231113
DTSTAMP:20260424T023047
CREATED:20230913T233235Z
LAST-MODIFIED:20230913T233235Z
UID:10000013-1699660800-1699833599@indemotorsports.com
SUMMARY:IMR Challenge Series Races 3 & 4
DESCRIPTION:
URL:https://indemotorsports.com/event/imr-challenge-series-races-3-4/
END:VEVENT
BEGIN:VEVENT
DTSTART;VALUE=DATE:20231123
DTEND;VALUE=DATE:20231124
DTSTAMP:20260424T023047
CREATED:20230913T233132Z
LAST-MODIFIED:20230913T233132Z
UID:10000005-1700697600-1700783999@indemotorsports.com
SUMMARY:Thanksgiving- Track Closed
DESCRIPTION:
URL:https://indemotorsports.com/event/thanksgiving-track-closed/
END:VEVENT
BEGIN:VEVENT
DTSTART;VALUE=DATE:20231128
DTEND;VALUE=DATE:20231130
DTSTAMP:20260424T023047
CREATED:20230913T233131Z
LAST-MODIFIED:20230913T233131Z
UID:10000004-1701129600-1701302399@indemotorsports.com
SUMMARY:YCRS
DESCRIPTION:
URL:https://indemotorsports.com/event/ycrs-2/
END:VEVENT
END:VCALENDAR