BEGIN:VCALENDAR
VERSION:2.0
PRODID:-//Inde Motorsports Ranch - ECPv6.15.3//NONSGML v1.0//EN
CALSCALE:GREGORIAN
METHOD:PUBLISH
X-ORIGINAL-URL:https://indemotorsports.com
X-WR-CALDESC:Events for Inde Motorsports Ranch
REFRESH-INTERVAL;VALUE=DURATION:PT1H
X-Robots-Tag:noindex
X-PUBLISHED-TTL:PT1H
BEGIN:VTIMEZONE
TZID:America/Phoenix
BEGIN:STANDARD
TZOFFSETFROM:-0700
TZOFFSETTO:-0700
TZNAME:MST
DTSTART:20260101T000000
END:STANDARD
END:VTIMEZONE
BEGIN:VEVENT
DTSTART;TZID=America/Phoenix:20260522T080000
DTEND;TZID=America/Phoenix:20260522T170000
DTSTAMP:20260419T063631
CREATED:20251221T153828Z
LAST-MODIFIED:20251221T153828Z
UID:10000333-1779436800-1779469200@indemotorsports.com
SUMMARY:1/2 Day Pro Auto Practice
DESCRIPTION:
URL:https://indemotorsports.com/event/1-2-day-pro-auto-practice/
END:VEVENT
BEGIN:VEVENT
DTSTART;TZID=America/Phoenix:20260523T080000
DTEND;TZID=America/Phoenix:20260524T170000
DTSTAMP:20260419T063631
CREATED:20251221T153851Z
LAST-MODIFIED:20251221T153851Z
UID:10000334-1779523200-1779642000@indemotorsports.com
SUMMARY:Pro Auto
DESCRIPTION:
URL:https://indemotorsports.com/event/pro-auto-4/
END:VEVENT
BEGIN:VEVENT
DTSTART;TZID=America/Phoenix:20260525T080000
DTEND;TZID=America/Phoenix:20260525T170000
DTSTAMP:20260419T063631
CREATED:20260201T175958Z
LAST-MODIFIED:20260201T175958Z
UID:10000339-1779696000-1779728400@indemotorsports.com
SUMMARY:Track & Facility Closed
DESCRIPTION:
URL:https://indemotorsports.com/event/track-facility-closed-3/
END:VEVENT
BEGIN:VEVENT
DTSTART;TZID=America/Phoenix:20260530T080000
DTEND;TZID=America/Phoenix:20260530T170000
DTSTAMP:20260419T063631
CREATED:20251221T153924Z
LAST-MODIFIED:20251221T153924Z
UID:10000335-1780128000-1780160400@indemotorsports.com
SUMMARY:Tucson BMW Track day
DESCRIPTION:
URL:https://indemotorsports.com/event/tucson-bmw-track-day/
END:VEVENT
END:VCALENDAR