BEGIN:VCALENDAR
VERSION:2.0
PRODID:-//Inde Motorsports Ranch - ECPv6.15.3//NONSGML v1.0//EN
CALSCALE:GREGORIAN
METHOD:PUBLISH
X-ORIGINAL-URL:https://indemotorsports.com
X-WR-CALDESC:Events for Inde Motorsports Ranch
REFRESH-INTERVAL;VALUE=DURATION:PT1H
X-Robots-Tag:noindex
X-PUBLISHED-TTL:PT1H
BEGIN:VTIMEZONE
TZID:America/Phoenix
BEGIN:STANDARD
TZOFFSETFROM:-0700
TZOFFSETTO:-0700
TZNAME:MST
DTSTART:20250101T000000
END:STANDARD
END:VTIMEZONE
BEGIN:VEVENT
DTSTART;VALUE=DATE:20251122
DTEND;VALUE=DATE:20251124
DTSTAMP:20260421T015426
CREATED:20250730T195142Z
LAST-MODIFIED:20251102T164951Z
UID:10000299-1763769600-1763942399@indemotorsports.com
SUMMARY:Brake Free Track Time ( 2day)
DESCRIPTION:
URL:https://indemotorsports.com/event/brake-free-track-time-2day/
END:VEVENT
BEGIN:VEVENT
DTSTART;TZID=America/Phoenix:20251127T080000
DTEND;TZID=America/Phoenix:20251127T170000
DTSTAMP:20260421T015426
CREATED:20250916T170325Z
LAST-MODIFIED:20250916T170325Z
UID:10000304-1764230400-1764262800@indemotorsports.com
SUMMARY:Thanksgiving- Facility closed
DESCRIPTION:
URL:https://indemotorsports.com/event/thanksgiving-facility-closed/
END:VEVENT
BEGIN:VEVENT
DTSTART;TZID=America/Phoenix:20251206T080000
DTEND;TZID=America/Phoenix:20251206T170000
DTSTAMP:20260421T015426
CREATED:20251102T170210Z
LAST-MODIFIED:20251102T170210Z
UID:10000309-1765008000-1765040400@indemotorsports.com
SUMMARY:Lenny & El Paso Crew
DESCRIPTION:
URL:https://indemotorsports.com/event/lenny-el-paso-crew/
END:VEVENT
BEGIN:VEVENT
DTSTART;TZID=America/Phoenix:20251212T080000
DTEND;TZID=America/Phoenix:20251214T170000
DTSTAMP:20260421T015426
CREATED:20251102T170246Z
LAST-MODIFIED:20251102T170246Z
UID:10000310-1765526400-1765731600@indemotorsports.com
SUMMARY:Vacation Package
DESCRIPTION:
URL:https://indemotorsports.com/event/vacation-package-4/
END:VEVENT
BEGIN:VEVENT
DTSTART;TZID=America/Phoenix:20251215T080000
DTEND;TZID=America/Phoenix:20251217T120000
DTSTAMP:20260421T015426
CREATED:20251202T215825Z
LAST-MODIFIED:20251202T215825Z
UID:10000313-1765785600-1765972800@indemotorsports.com
SUMMARY:Manufacture Testing - Exclusive
DESCRIPTION:
URL:https://indemotorsports.com/event/manufacture-testing-exclusive-2/
END:VEVENT
BEGIN:VEVENT
DTSTART;TZID=America/Phoenix:20251225T080000
DTEND;TZID=America/Phoenix:20251225T170000
DTSTAMP:20260421T015426
CREATED:20250916T170404Z
LAST-MODIFIED:20250916T170404Z
UID:10000305-1766649600-1766682000@indemotorsports.com
SUMMARY:Christmas- Facility Closed
DESCRIPTION:
URL:https://indemotorsports.com/event/christmas-facility-closed/
END:VEVENT
BEGIN:VEVENT
DTSTART;VALUE=DATE:20251229
DTEND;VALUE=DATE:20251230
DTSTAMP:20260421T015426
CREATED:20251221T152300Z
LAST-MODIFIED:20251221T152300Z
UID:10000314-1766966400-1767052799@indemotorsports.com
SUMMARY:Staff Holiday Party- Facility and track closed
DESCRIPTION:
URL:https://indemotorsports.com/event/staff-holiday-party-facility-and-track-closed/
END:VEVENT
BEGIN:VEVENT
DTSTART;TZID=America/Phoenix:20260101T080000
DTEND;TZID=America/Phoenix:20260101T170000
DTSTAMP:20260421T015426
CREATED:20250916T170454Z
LAST-MODIFIED:20250916T170454Z
UID:10000306-1767254400-1767286800@indemotorsports.com
SUMMARY:New Year's day- Facility closed
DESCRIPTION:
URL:https://indemotorsports.com/event/new-years-day-facility-closed/
END:VEVENT
BEGIN:VEVENT
DTSTART;TZID=America/Phoenix:20260103T080000
DTEND;TZID=America/Phoenix:20260104T170000
DTSTAMP:20260421T015426
CREATED:20251221T152352Z
LAST-MODIFIED:20251221T152352Z
UID:10000315-1767427200-1767546000@indemotorsports.com
SUMMARY:Ultimate Weekender
DESCRIPTION:
URL:https://indemotorsports.com/event/ultimate-weekender/
END:VEVENT
BEGIN:VEVENT
DTSTART;VALUE=DATE:20260110
DTEND;VALUE=DATE:20260111
DTSTAMP:20260421T015426
CREATED:20250714T201157Z
LAST-MODIFIED:20250714T201157Z
UID:10000296-1768003200-1768089599@indemotorsports.com
SUMMARY:IMRCS Season 12 Race 3
DESCRIPTION:
URL:https://indemotorsports.com/event/imrcs-season-12-race-3/
END:VEVENT
BEGIN:VEVENT
DTSTART;TZID=America/Phoenix:20260111T090000
DTEND;TZID=America/Phoenix:20260111T170000
DTSTAMP:20260421T015426
CREATED:20251102T170351Z
LAST-MODIFIED:20251102T170351Z
UID:10000311-1768122000-1768150800@indemotorsports.com
SUMMARY:JDP Customer Appreciation
DESCRIPTION:
URL:https://indemotorsports.com/event/jdp-customer-appreciation/
END:VEVENT
BEGIN:VEVENT
DTSTART;TZID=America/Phoenix:20260119T080000
DTEND;TZID=America/Phoenix:20260120T170000
DTSTAMP:20260421T015426
CREATED:20251221T152458Z
LAST-MODIFIED:20251221T152458Z
UID:10000316-1768809600-1768928400@indemotorsports.com
SUMMARY:Vacation Package
DESCRIPTION:
URL:https://indemotorsports.com/event/vacation-package-5/
END:VEVENT
BEGIN:VEVENT
DTSTART;VALUE=DATE:20260129
DTEND;VALUE=DATE:20260131
DTSTAMP:20260421T015426
CREATED:20251102T170431Z
LAST-MODIFIED:20251102T170431Z
UID:10000312-1769644800-1769817599@indemotorsports.com
SUMMARY:Member Private rental
DESCRIPTION:
URL:https://indemotorsports.com/event/member-private-rental/
END:VEVENT
BEGIN:VEVENT
DTSTART;TZID=America/Phoenix:20260203T080000
DTEND;TZID=America/Phoenix:20260205T170000
DTSTAMP:20260421T015426
CREATED:20251221T152632Z
LAST-MODIFIED:20251221T152632Z
UID:10000317-1770105600-1770310800@indemotorsports.com
SUMMARY:Exclusive Manufacture Testing
DESCRIPTION:
URL:https://indemotorsports.com/event/exclusive-manufacture-testing-2/
END:VEVENT
BEGIN:VEVENT
DTSTART;TZID=America/Phoenix:20260214T080000
DTEND;TZID=America/Phoenix:20260215T170000
DTSTAMP:20260421T015426
CREATED:20260201T185919Z
LAST-MODIFIED:20260201T185919Z
UID:10000340-1771056000-1771174800@indemotorsports.com
SUMMARY:IMR Rider's Club
DESCRIPTION:
URL:https://indemotorsports.com/event/imr-riders-club-24/
END:VEVENT
BEGIN:VEVENT
DTSTART;TZID=America/Phoenix:20260221T080000
DTEND;TZID=America/Phoenix:20260222T170000
DTSTAMP:20260421T015426
CREATED:20260201T190032Z
LAST-MODIFIED:20260201T190120Z
UID:10000341-1771660800-1771779600@indemotorsports.com
SUMMARY:Full Throttle- Limited sessions
DESCRIPTION:
URL:https://indemotorsports.com/event/vacation-package-6/
END:VEVENT
BEGIN:VEVENT
DTSTART;TZID=America/Phoenix:20260224T080000
DTEND;TZID=America/Phoenix:20260225T170000
DTSTAMP:20260421T015426
CREATED:20251221T152722Z
LAST-MODIFIED:20251221T152722Z
UID:10000318-1771920000-1772038800@indemotorsports.com
SUMMARY:YCRS
DESCRIPTION:
URL:https://indemotorsports.com/event/ycrs-18/
END:VEVENT
BEGIN:VEVENT
DTSTART;TZID=America/Phoenix:20260304T080000
DTEND;TZID=America/Phoenix:20260304T170000
DTSTAMP:20260421T015426
CREATED:20251221T152835Z
LAST-MODIFIED:20251221T152835Z
UID:10000319-1772611200-1772643600@indemotorsports.com
SUMMARY:AG West Farm Credit 100+ dinner
DESCRIPTION:
URL:https://indemotorsports.com/event/ag-west-farm-credit-100-dinner/
END:VEVENT
BEGIN:VEVENT
DTSTART;TZID=America/Phoenix:20260305T080000
DTEND;TZID=America/Phoenix:20260306T170000
DTSTAMP:20260421T015426
CREATED:20251221T152926Z
LAST-MODIFIED:20251221T152926Z
UID:10000320-1772697600-1772816400@indemotorsports.com
SUMMARY:Full Throttle Event
DESCRIPTION:
URL:https://indemotorsports.com/event/full-throttle-event/
END:VEVENT
BEGIN:VEVENT
DTSTART;TZID=America/Phoenix:20260314T080000
DTEND;TZID=America/Phoenix:20260314T170000
DTSTAMP:20260421T015426
CREATED:20251221T153019Z
LAST-MODIFIED:20251221T153019Z
UID:10000321-1773475200-1773507600@indemotorsports.com
SUMMARY:IMRCS Race 4
DESCRIPTION:
URL:https://indemotorsports.com/event/imrcs-race-4/
END:VEVENT
BEGIN:VEVENT
DTSTART;TZID=America/Phoenix:20260316T080000
DTEND;TZID=America/Phoenix:20260317T170000
DTSTAMP:20260421T015426
CREATED:20251221T153101Z
LAST-MODIFIED:20251221T153101Z
UID:10000322-1773648000-1773766800@indemotorsports.com
SUMMARY:Exclusive Rental
DESCRIPTION:
URL:https://indemotorsports.com/event/exclusive-rental/
END:VEVENT
BEGIN:VEVENT
DTSTART;TZID=America/Phoenix:20260322T080000
DTEND;TZID=America/Phoenix:20260322T170000
DTSTAMP:20260421T015426
CREATED:20251221T153131Z
LAST-MODIFIED:20251221T153131Z
UID:10000323-1774166400-1774198800@indemotorsports.com
SUMMARY:Iron Horse Track day
DESCRIPTION:
URL:https://indemotorsports.com/event/iron-horse-track-day/
END:VEVENT
BEGIN:VEVENT
DTSTART;TZID=America/Phoenix:20260328T080000
DTEND;TZID=America/Phoenix:20260329T170000
DTSTAMP:20260421T015426
CREATED:20251221T153212Z
LAST-MODIFIED:20251221T153212Z
UID:10000324-1774684800-1774803600@indemotorsports.com
SUMMARY:PCA
DESCRIPTION:
URL:https://indemotorsports.com/event/pca-6/
END:VEVENT
BEGIN:VEVENT
DTSTART;TZID=America/Phoenix:20260330T080000
DTEND;TZID=America/Phoenix:20260330T170000
DTSTAMP:20260421T015426
CREATED:20260201T173307Z
LAST-MODIFIED:20260201T173307Z
UID:10000336-1774857600-1774890000@indemotorsports.com
SUMMARY:Track & Facility Closed
DESCRIPTION:
URL:https://indemotorsports.com/event/track-facility-closed/
END:VEVENT
BEGIN:VEVENT
DTSTART;TZID=America/Phoenix:20260404T080000
DTEND;TZID=America/Phoenix:20260404T170000
DTSTAMP:20260421T015426
CREATED:20260201T190407Z
LAST-MODIFIED:20260201T190407Z
UID:10000342-1775289600-1775322000@indemotorsports.com
SUMMARY:Clear Choice Designs
DESCRIPTION:
URL:https://indemotorsports.com/event/clear-choice-designs/
END:VEVENT
BEGIN:VEVENT
DTSTART;TZID=America/Phoenix:20260411T080000
DTEND;TZID=America/Phoenix:20260411T170000
DTSTAMP:20260421T015426
CREATED:20251221T153301Z
LAST-MODIFIED:20251221T153301Z
UID:10000325-1775894400-1775926800@indemotorsports.com
SUMMARY:IMRCS Race 5
DESCRIPTION:
URL:https://indemotorsports.com/event/imrcs-race-5/
END:VEVENT
BEGIN:VEVENT
DTSTART;TZID=America/Phoenix:20260416T080000
DTEND;TZID=America/Phoenix:20260417T170000
DTSTAMP:20260421T015426
CREATED:20251221T153342Z
LAST-MODIFIED:20251221T153342Z
UID:10000326-1776326400-1776445200@indemotorsports.com
SUMMARY:Full Throttle Event
DESCRIPTION:
URL:https://indemotorsports.com/event/full-throttle-event-2/
END:VEVENT
BEGIN:VEVENT
DTSTART;TZID=America/Phoenix:20260418T080000
DTEND;TZID=America/Phoenix:20260418T133000
DTSTAMP:20260421T015426
CREATED:20260413T230926Z
LAST-MODIFIED:20260413T230926Z
UID:10000344-1776499200-1776519000@indemotorsports.com
SUMMARY:Closed 9am-1:30pm for Memorial
DESCRIPTION:
URL:https://indemotorsports.com/event/closed-9am-130pm-for-memorial/
END:VEVENT
BEGIN:VEVENT
DTSTART;TZID=America/Phoenix:20260419T080000
DTEND;TZID=America/Phoenix:20260419T170000
DTSTAMP:20260421T015426
CREATED:20251221T153429Z
LAST-MODIFIED:20251221T153429Z
UID:10000327-1776585600-1776618000@indemotorsports.com
SUMMARY:Brake Free Track Time
DESCRIPTION:
URL:https://indemotorsports.com/event/brake-free-track-time/
END:VEVENT
BEGIN:VEVENT
DTSTART;TZID=America/Phoenix:20260424T080000
DTEND;TZID=America/Phoenix:20260426T170000
DTSTAMP:20260421T015426
CREATED:20251221T153506Z
LAST-MODIFIED:20251221T153506Z
UID:10000328-1777017600-1777222800@indemotorsports.com
SUMMARY:AHRMA
DESCRIPTION:
URL:https://indemotorsports.com/event/ahrma/
END:VEVENT
END:VCALENDAR