BEGIN:VCALENDAR
VERSION:2.0
PRODID:-//Inde Motorsports Ranch - ECPv6.15.3//NONSGML v1.0//EN
CALSCALE:GREGORIAN
METHOD:PUBLISH
X-WR-CALNAME:Inde Motorsports Ranch
X-ORIGINAL-URL:https://indemotorsports.com
X-WR-CALDESC:Events for Inde Motorsports Ranch
REFRESH-INTERVAL;VALUE=DURATION:PT1H
X-Robots-Tag:noindex
X-PUBLISHED-TTL:PT1H
BEGIN:VTIMEZONE
TZID:America/Phoenix
BEGIN:STANDARD
TZOFFSETFROM:-0700
TZOFFSETTO:-0700
TZNAME:MST
DTSTART:20200101T000000
END:STANDARD
END:VTIMEZONE
BEGIN:VEVENT
DTSTART;TZID=America/Phoenix:20210423T120000
DTEND;TZID=America/Phoenix:20210423T170000
DTSTAMP:20260425T063236
CREATED:20230914T000901Z
LAST-MODIFIED:20230914T000901Z
UID:10000131-1619179200-1619197200@indemotorsports.com
SUMMARY:NASA 1/2 Day Practice
DESCRIPTION:
URL:https://indemotorsports.com/event/nasa-1-2-day-practice/
END:VEVENT
BEGIN:VEVENT
DTSTART;VALUE=DATE:20210419
DTEND;VALUE=DATE:20210420
DTSTAMP:20260425T063236
CREATED:20230914T000901Z
LAST-MODIFIED:20230914T000901Z
UID:10000132-1618790400-1618876799@indemotorsports.com
SUMMARY:Closed Track for Maintenance
DESCRIPTION:
URL:https://indemotorsports.com/event/closed-track-for-maintenance-4/
END:VEVENT
BEGIN:VEVENT
DTSTART;TZID=America/Phoenix:20210410T080000
DTEND;TZID=America/Phoenix:20210411T170000
DTSTAMP:20260425T063236
CREATED:20230914T000942Z
LAST-MODIFIED:20230914T000942Z
UID:10000164-1618041600-1618160400@indemotorsports.com
SUMMARY:IMRCS Races 11 & 12
DESCRIPTION:
URL:https://indemotorsports.com/event/imrcs-races-11-12/
END:VEVENT
BEGIN:VEVENT
DTSTART;VALUE=DATE:20210409
DTEND;VALUE=DATE:20210413
DTSTAMP:20260425T063236
CREATED:20230914T000901Z
LAST-MODIFIED:20230914T000901Z
UID:10000133-1617926400-1618271999@indemotorsports.com
SUMMARY:IMRCS 11 & 12
DESCRIPTION:
URL:https://indemotorsports.com/event/imrcs-11-12-3/
END:VEVENT
BEGIN:VEVENT
DTSTART;VALUE=DATE:20210405
DTEND;VALUE=DATE:20210406
DTSTAMP:20260425T063236
CREATED:20230914T000906Z
LAST-MODIFIED:20230914T000906Z
UID:10000134-1617580800-1617667199@indemotorsports.com
SUMMARY:Closed Track for Maintenance
DESCRIPTION:
URL:https://indemotorsports.com/event/closed-track-for-maintenance-5/
END:VEVENT
BEGIN:VEVENT
DTSTART;VALUE=DATE:20210329
DTEND;VALUE=DATE:20210330
DTSTAMP:20260425T063236
CREATED:20230914T000906Z
LAST-MODIFIED:20230914T000906Z
UID:10000135-1616976000-1617062399@indemotorsports.com
SUMMARY:Closed Track for Maintenance
DESCRIPTION:
URL:https://indemotorsports.com/event/closed-track-for-maintenance-6/
END:VEVENT
BEGIN:VEVENT
DTSTART;VALUE=DATE:20210326
DTEND;VALUE=DATE:20210329
DTSTAMP:20260425T063236
CREATED:20230914T000906Z
LAST-MODIFIED:20230914T000906Z
UID:10000136-1616716800-1616975999@indemotorsports.com
SUMMARY:Lucky Dog Racing League Endurance Race
DESCRIPTION:2021 SCHEDULE
URL:https://indemotorsports.com/event/lucky-dog-racing-league-endurance-race/
END:VEVENT
BEGIN:VEVENT
DTSTART;VALUE=DATE:20210322
DTEND;VALUE=DATE:20210324
DTSTAMP:20260425T063236
CREATED:20230914T000906Z
LAST-MODIFIED:20230914T000906Z
UID:10000137-1616371200-1616543999@indemotorsports.com
SUMMARY:Yamaha Champions Riding School
DESCRIPTION:
URL:https://indemotorsports.com/event/yamaha-champions-riding-school-11/
END:VEVENT
BEGIN:VEVENT
DTSTART;VALUE=DATE:20210315
DTEND;VALUE=DATE:20210316
DTSTAMP:20260425T063236
CREATED:20230914T000907Z
LAST-MODIFIED:20230914T000907Z
UID:10000138-1615766400-1615852799@indemotorsports.com
SUMMARY:Closed Track for Maintenance
DESCRIPTION:
URL:https://indemotorsports.com/event/closed-track-for-maintenance-7/
END:VEVENT
BEGIN:VEVENT
DTSTART;TZID=America/Phoenix:20210313T080000
DTEND;TZID=America/Phoenix:20210314T180000
DTSTAMP:20260425T063236
CREATED:20230914T000920Z
LAST-MODIFIED:20230914T000920Z
UID:10000144-1615622400-1615744800@indemotorsports.com
SUMMARY:IMR Riders Club
DESCRIPTION:
URL:https://indemotorsports.com/event/imr-riders-club-9/
END:VEVENT
BEGIN:VEVENT
DTSTART;VALUE=DATE:20210313
DTEND;VALUE=DATE:20210315
DTSTAMP:20260425T063236
CREATED:20230914T000912Z
LAST-MODIFIED:20230914T000912Z
UID:10000139-1615593600-1615766399@indemotorsports.com
SUMMARY:IMR Riders Club
DESCRIPTION:IMR Riders Club is open to any level of rider with fun and safety being the main focus of the day. Chris Peris of Yamaha Champions Riding School will be at all events to ensure rider safety is held to the highest standard and dual apex cones will be utilized to help riders navigate this technical track.  
URL:https://indemotorsports.com/event/imr-riders-club-8/
END:VEVENT
BEGIN:VEVENT
DTSTART;TZID=America/Phoenix:20210306T080000
DTEND;TZID=America/Phoenix:20210307T170000
DTSTAMP:20260425T063236
CREATED:20230914T000942Z
LAST-MODIFIED:20230914T000942Z
UID:10000165-1615017600-1615136400@indemotorsports.com
SUMMARY:IMRCS Races 9 & 10
DESCRIPTION:IMRCS is a well-established and professionally managed series for the members. The competition and the camaraderie can’t be found anywhere else!\nFrom wheel-to-wheel racing\, time attack\, and street car lapping\, the IMR Challenge Series offers something for every motorsport enthusiast. Wheel-to-wheel racing is open to all Vintage\, SCCA\, NASA\, and IMSA certified race cars and drivers. Not licensed? IMR provides a 2-day competition racing school to obtain an IMRCS license. Our all-inclusive member series typically runs from September through April each season. Don’t miss your chance to be on the podium and accelerate through the finish line.
URL:https://indemotorsports.com/event/imrcs-races-9-10/
END:VEVENT
BEGIN:VEVENT
DTSTART;VALUE=DATE:20210305
DTEND;VALUE=DATE:20210308
DTSTAMP:20260425T063236
CREATED:20230914T000912Z
LAST-MODIFIED:20230914T000912Z
UID:10000140-1614902400-1615161599@indemotorsports.com
SUMMARY:IMRCS 9 – 10
DESCRIPTION:
URL:https://indemotorsports.com/event/imrcs-9-10-2/
END:VEVENT
BEGIN:VEVENT
DTSTART;VALUE=DATE:20210228
DTEND;VALUE=DATE:20210301
DTSTAMP:20260425T063236
CREATED:20230914T000913Z
LAST-MODIFIED:20230914T000913Z
UID:10000141-1614470400-1614556799@indemotorsports.com
SUMMARY:Chapman Auto Group Corporate Track Day
DESCRIPTION:
URL:https://indemotorsports.com/event/chapman-auto-group-corporate-track-day/
END:VEVENT
BEGIN:VEVENT
DTSTART;VALUE=DATE:20210226
DTEND;VALUE=DATE:20210228
DTSTAMP:20260425T063236
CREATED:20230914T000913Z
LAST-MODIFIED:20230914T000913Z
UID:10000142-1614297600-1614470399@indemotorsports.com
SUMMARY:Crosslink Racing Testing
DESCRIPTION:
URL:https://indemotorsports.com/event/crosslink-racing-testing/
END:VEVENT
BEGIN:VEVENT
DTSTART;TZID=America/Phoenix:20210220T080000
DTEND;TZID=America/Phoenix:20210221T180000
DTSTAMP:20260425T063236
CREATED:20230914T000920Z
LAST-MODIFIED:20230914T000920Z
UID:10000145-1613808000-1613930400@indemotorsports.com
SUMMARY:IMR Riders Club
DESCRIPTION:Join us for an IMR Riders Club weekend! Inde is a private track near Tucson\, Arizona\, and member days are split between cars and bikes. Riders who join the Riders Club below will join regular members on these lapping days and can expect a minimum of 20 minutes on track every hour; however\, if no cars are running that day the track will be open solely for motorcyclists. IMR Riders Club is open to any level of rider with fun and safety being the main focus of the day. Lunches and dinner the first night will be included with purchase of the event.
URL:https://indemotorsports.com/event/imr-riders-club-10/
END:VEVENT
BEGIN:VEVENT
DTSTART;TZID=America/Phoenix:20210206T080000
DTEND;TZID=America/Phoenix:20210207T170000
DTSTAMP:20260425T063236
CREATED:20230914T000942Z
LAST-MODIFIED:20230914T000942Z
UID:10000166-1612598400-1612717200@indemotorsports.com
SUMMARY:IMRCS Races 7 & 8
DESCRIPTION:IMRCS is a well-established and professionally managed series for the members. The competition and the camaraderie can’t be found anywhere else!\nFrom wheel-to-wheel racing\, time attack\, and street car lapping\, the IMR Challenge Series offers something for every motorsport enthusiast. Wheel-to-wheel racing is open to all Vintage\, SCCA\, NASA\, and IMSA certified race cars and drivers. Not licensed? IMR provides a 2-day competition racing school to obtain an IMRCS license. Our all-inclusive member series typically runs from September through April each season. Don’t miss your chance to be on the podium and accelerate through the finish line.
URL:https://indemotorsports.com/event/imrcs-races-7-8/
END:VEVENT
BEGIN:VEVENT
DTSTART;TZID=America/Phoenix:20210116T080000
DTEND;TZID=America/Phoenix:20210117T180000
DTSTAMP:20260425T063236
CREATED:20230914T000921Z
LAST-MODIFIED:20230914T000921Z
UID:10000146-1610784000-1610906400@indemotorsports.com
SUMMARY:IMR Riders Club
DESCRIPTION:
URL:https://indemotorsports.com/event/imr-riders-club-11/
END:VEVENT
BEGIN:VEVENT
DTSTART;VALUE=DATE:20210115
DTEND;VALUE=DATE:20210116
DTSTAMP:20260425T063236
CREATED:20230914T000913Z
LAST-MODIFIED:20230914T000913Z
UID:10000143-1610668800-1610755199@indemotorsports.com
SUMMARY:Manufacture Testing
DESCRIPTION:
URL:https://indemotorsports.com/event/manufacture-testing/
END:VEVENT
BEGIN:VEVENT
DTSTART;TZID=America/Phoenix:20210109T080000
DTEND;TZID=America/Phoenix:20210110T170000
DTSTAMP:20260425T063236
CREATED:20230914T000943Z
LAST-MODIFIED:20230914T000943Z
UID:10000167-1610179200-1610298000@indemotorsports.com
SUMMARY:IMRCS Races 5 & 6
DESCRIPTION:IMRCS is a well-established and professionally managed series for the members. The competition and the camaraderie can’t be found anywhere else!\nFrom wheel-to-wheel racing\, time attack\, and street car lapping\, the IMR Challenge Series offers something for every motorsport enthusiast. Wheel-to-wheel racing is open to all Vintage\, SCCA\, NASA\, and IMSA certified race cars and drivers. Not licensed? IMR provides a 2-day competition racing school to obtain an IMRCS license. Our all-inclusive member series typically runs from September through April each season. Don’t miss your chance to be on the podium and accelerate through the finish line.
URL:https://indemotorsports.com/event/imrcs-races-5-6/
END:VEVENT
BEGIN:VEVENT
DTSTART;TZID=America/Phoenix:20201212T080000
DTEND;TZID=America/Phoenix:20201213T180000
DTSTAMP:20260425T063236
CREATED:20230914T000921Z
LAST-MODIFIED:20230914T000921Z
UID:10000147-1607760000-1607882400@indemotorsports.com
SUMMARY:IMR Riders Club
DESCRIPTION:
URL:https://indemotorsports.com/event/imr-riders-club-12/
END:VEVENT
BEGIN:VEVENT
DTSTART;VALUE=DATE:20201207
DTEND;VALUE=DATE:20201209
DTSTAMP:20260425T063236
CREATED:20230914T000924Z
LAST-MODIFIED:20230914T000924Z
UID:10000150-1607299200-1607471999@indemotorsports.com
SUMMARY:YCRS
DESCRIPTION:ChampSchool is our famed two-day training curriculum originally designed for the Freddie Spencer High-Performance Riding School in the 90s\, based on what we call “Champions Habits”.  “Champions Habits” are the techniques that the best riders in the world are using.  If nine of the top ten riders are all doing a similar technique\, that is what we teach.  To be a Champion\, you must not only be able to go fast but do it without falling down.  These are the riders we want to emulate.  It’s all about the technique\, the speed will come. Said best by one of our high ranking Marine Corps Safety Officers in 2014\, “Before ChampSchool\, every turn was a gamble\, after YCRS every turn is complete control”.  This is what Champions Habits are all about; the habits that can help you go faster\, stay safer or do both.
URL:https://indemotorsports.com/event/ycrs-5/
END:VEVENT
BEGIN:VEVENT
DTSTART;TZID=America/Phoenix:20201205T080000
DTEND;TZID=America/Phoenix:20201206T180000
DTSTAMP:20260425T063236
CREATED:20230914T000921Z
LAST-MODIFIED:20230914T000921Z
UID:10000148-1607155200-1607277600@indemotorsports.com
SUMMARY:IMRCS Race 3 & 4
DESCRIPTION:IMRCS is a well-established and professionally managed series for the members. The competition and the camaraderie can’t be found anywhere else!\nFrom wheel-to-wheel racing\, time attack\, and street car lapping\, the IMR Challenge Series offers something for every motorsport enthusiast. Wheel-to-wheel racing is open to all Vintage\, SCCA\, NASA\, and IMSA certified race cars and drivers. Not licensed? IMR provides a 2-day competition racing school to obtain an IMRCS license. Our all-inclusive member series typically runs from September through April each season. Don’t miss your chance to be on the podium and accelerate through the finish line.
URL:https://indemotorsports.com/event/imrcs-race-3-4/
END:VEVENT
BEGIN:VEVENT
DTSTART;TZID=America/Phoenix:20201114T080000
DTEND;TZID=America/Phoenix:20201115T170000
DTSTAMP:20260425T063236
CREATED:20230914T000943Z
LAST-MODIFIED:20230914T000943Z
UID:10000168-1605340800-1605459600@indemotorsports.com
SUMMARY:IMRCS Races 1 & 2
DESCRIPTION:IMRCS is a well-established and professionally managed series for the members. The competition and the camaraderie can’t be found anywhere else!\nFrom wheel-to-wheel racing\, time attack\, and street car lapping\, the IMR Challenge Series offers something for every motorsport enthusiast. Wheel-to-wheel racing is open to all Vintage\, SCCA\, NASA\, and IMSA certified race cars and drivers. Not licensed? IMR provides a 2-day competition racing school to obtain an IMRCS license. Our all-inclusive member series typically runs from September through April each season. Don’t miss your chance to be on the podium and accelerate through the finish line.
URL:https://indemotorsports.com/event/imrcs-races-1-2/
END:VEVENT
BEGIN:VEVENT
DTSTART;VALUE=DATE:20201109
DTEND;VALUE=DATE:20201111
DTSTAMP:20260425T063236
CREATED:20230914T000925Z
LAST-MODIFIED:20230914T000925Z
UID:10000151-1604880000-1605052799@indemotorsports.com
SUMMARY:YCRS
DESCRIPTION:ChampSchool is our famed two-day training curriculum originally designed for the Freddie Spencer High-Performance Riding School in the 90s\, based on what we call “Champions Habits”.  “Champions Habits” are the techniques that the best riders in the world are using.  If nine of the top ten riders are all doing a similar technique\, that is what we teach.  To be a Champion\, you must not only be able to go fast but do it without falling down.  These are the riders we want to emulate.  It’s all about the technique\, the speed will come. Said best by one of our high ranking Marine Corps Safety Officers in 2014\, “Before ChampSchool\, every turn was a gamble\, after YCRS every turn is complete control”.  This is what Champions Habits are all about; the habits that can help you go faster\, stay safer or do both.
URL:https://indemotorsports.com/event/ycrs-6/
END:VEVENT
BEGIN:VEVENT
DTSTART;VALUE=DATE:20201107
DTEND;VALUE=DATE:20201109
DTSTAMP:20260425T063236
CREATED:20230914T000924Z
LAST-MODIFIED:20230914T000924Z
UID:10000149-1604707200-1604879999@indemotorsports.com
SUMMARY:Porsche Club of America
DESCRIPTION:
URL:https://indemotorsports.com/event/porsche-club-of-america-3/
END:VEVENT
BEGIN:VEVENT
DTSTART;VALUE=DATE:20201012
DTEND;VALUE=DATE:20201014
DTSTAMP:20260425T063236
CREATED:20230914T000925Z
LAST-MODIFIED:20230914T000925Z
UID:10000152-1602460800-1602633599@indemotorsports.com
SUMMARY:YCRS
DESCRIPTION:ChampSchool is our famed two-day training curriculum originally designed for the Freddie Spencer High-Performance Riding School in the 90s\, based on what we call “Champions Habits”.  “Champions Habits” are the techniques that the best riders in the world are using.  If nine of the top ten riders are all doing a similar technique\, that is what we teach.  To be a Champion\, you must not only be able to go fast but do it without falling down.  These are the riders we want to emulate.  It’s all about the technique\, the speed will come. Said best by one of our high ranking Marine Corps Safety Officers in 2014\, “Before ChampSchool\, every turn was a gamble\, after YCRS every turn is complete control”.  This is what Champions Habits are all about; the habits that can help you go faster\, stay safer or do both.
URL:https://indemotorsports.com/event/ycrs-7/
END:VEVENT
BEGIN:VEVENT
DTSTART;VALUE=DATE:20201003
DTEND;VALUE=DATE:20201004
DTSTAMP:20260425T063236
CREATED:20230914T000925Z
LAST-MODIFIED:20230914T000925Z
UID:10000153-1601683200-1601769599@indemotorsports.com
SUMMARY:Desert Street Cars Track Day
DESCRIPTION:
URL:https://indemotorsports.com/event/desert-street-cars-track-day/
END:VEVENT
BEGIN:VEVENT
DTSTART;VALUE=DATE:20200905
DTEND;VALUE=DATE:20200907
DTSTAMP:20260425T063236
CREATED:20230914T000930Z
LAST-MODIFIED:20230914T000930Z
UID:10000154-1599264000-1599436799@indemotorsports.com
SUMMARY:Pro Autosports
DESCRIPTION:
URL:https://indemotorsports.com/event/pro-autosports/
END:VEVENT
BEGIN:VEVENT
DTSTART;VALUE=DATE:20200815
DTEND;VALUE=DATE:20200817
DTSTAMP:20260425T063236
CREATED:20230914T000930Z
LAST-MODIFIED:20230914T000930Z
UID:10000155-1597449600-1597622399@indemotorsports.com
SUMMARY:IMR Summer Series Weekend #2
DESCRIPTION:This summer IMR will be holding an abbreviated summer series of racing\, held on two race weekends with a total of 4 races to determine the summer series winner! The summer series will be held with slightly shorter races than the IMR Challenge Series and with a schedule starting earlier in the morning to take advantage of the favorable weather.
URL:https://indemotorsports.com/event/imr-summer-series-weekend-2/
END:VEVENT
END:VCALENDAR