BEGIN:VCALENDAR
VERSION:2.0
PRODID:-//Inde Motorsports Ranch - ECPv6.15.3//NONSGML v1.0//EN
CALSCALE:GREGORIAN
METHOD:PUBLISH
X-WR-CALNAME:Inde Motorsports Ranch
X-ORIGINAL-URL:https://indemotorsports.com
X-WR-CALDESC:Events for Inde Motorsports Ranch
REFRESH-INTERVAL;VALUE=DURATION:PT1H
X-Robots-Tag:noindex
X-PUBLISHED-TTL:PT1H
BEGIN:VTIMEZONE
TZID:America/Phoenix
BEGIN:STANDARD
TZOFFSETFROM:-0700
TZOFFSETTO:-0700
TZNAME:MST
DTSTART:20240101T000000
END:STANDARD
END:VTIMEZONE
BEGIN:VEVENT
DTSTART;VALUE=DATE:20240724
DTEND;VALUE=DATE:20240726
DTSTAMP:20260423T030714
CREATED:20240529T180632Z
LAST-MODIFIED:20240529T180632Z
UID:10000218-1721779200-1721951999@indemotorsports.com
SUMMARY:Ford Motor Company- Exclusive rental
DESCRIPTION:
URL:https://indemotorsports.com/event/ford-motor-company-exclusive-rental/
END:VEVENT
END:VCALENDAR